BEGIN:VCALENDAR
VERSION:2.0
PRODID:SchoolNow
CALSCALE:GREGORIAN
BEGIN:VEVENT
UID:a53439b4-b0f4-11f0-81cf-0a58a9feac02
DTSTAMP:20251216T214528Z
SUMMARY:McCracken Girls Varsity Basketball Tournament
URL;VALUE=URI:https://www.sd735.org/middleton/calendar/8747507/mccracken-gi
 rls-varsity-basketball-tournament
DTSTART:20251215T220000Z
DTEND:20251215T230000Z
END:VEVENT
END:VCALENDAR
