BEGIN:VCALENDAR
VERSION:2.0
PRODID:SchoolNow
CALSCALE:GREGORIAN
BEGIN:VEVENT
UID:a53418f8-b0f4-11f0-8e84-0a58a9feac02
DTSTAMP:20251216T214528Z
SUMMARY:McCracken Girls Varsity Basketball Play In Game
URL;VALUE=URI:https://www.sd735.org/middleton/calendar/8747505/mccracken-gi
 rls-varsity-basketball-play-in-game
DTSTART:20251211T220000Z
DTEND:20251211T230000Z
END:VEVENT
END:VCALENDAR
