BEGIN:VCALENDAR
VERSION:2.0
PRODID:SchoolNow
CALSCALE:GREGORIAN
BEGIN:VEVENT
UID:adc5c1fe-b05b-11f0-a2c1-0a58a9feac02
DTSTAMP:20251216T214528Z
SUMMARY:McCracken Girls JV Basketball at Lincoln Hall
LOCATION:Lincoln Hall Middle School\, 6855 N Crawford Ave\, Lincolnwood\, I
 L 60712\, USA
URL;VALUE=URI:https://www.sd735.org/middleton/calendar/8745498/mccracken-gi
 rls-jv-basketball-at-lincoln-hall
DTSTART:20251208T220000Z
DTEND:20251208T230000Z
END:VEVENT
END:VCALENDAR
