BEGIN:VCALENDAR
VERSION:2.0
PRODID:SchoolNow
CALSCALE:GREGORIAN
BEGIN:VEVENT
UID:adb29e26-b05b-11f0-bb9a-0a58a9feac02
DTSTAMP:20251216T214529Z
SUMMARY:McCracken Girls JV Basketball at Park View
LOCATION:Park View Elementary School\, 6200 Lake St\, Morton Grove\, IL 600
 53\, USA
URL;VALUE=URI:https://www.sd735.org/middleton/calendar/8745497/mccracken-gi
 rls-jv-basketball-at-park-view
DTSTART:20251205T221500Z
DTEND:20251205T231500Z
END:VEVENT
END:VCALENDAR
