BEGIN:VCALENDAR
VERSION:2.0
PRODID:SchoolNow
CALSCALE:GREGORIAN
BEGIN:VEVENT
UID:adb29d40-b05b-11f0-b786-0a58a9feac02
DTSTAMP:20251216T214528Z
SUMMARY:McCracken Girls JV Basketball vs. Fairview
LOCATION:Oliver McCracken Middle School\, 8000 E Prairie Rd\, Skokie\, IL 6
 0076\, USA
URL;VALUE=URI:https://www.sd735.org/middleton/calendar/8745496/mccracken-gi
 rls-jv-basketball-vs-fairview
DTSTART:20251203T220000Z
DTEND:20251203T230000Z
END:VEVENT
END:VCALENDAR
