BEGIN:VCALENDAR
VERSION:2.0
PRODID:SchoolNow
CALSCALE:GREGORIAN
BEGIN:VEVENT
UID:adb29c5a-b05b-11f0-9b1e-0a58a9feac02
DTSTAMP:20251216T214528Z
SUMMARY:McCracken Girls JV Basketball vs. Old Orchard
LOCATION:Oliver McCracken Middle School\, 8000 E Prairie Rd\, Skokie\, IL 6
 0076\, USA
URL;VALUE=URI:https://www.sd735.org/middleton/calendar/8745495/mccracken-gi
 rls-jv-basketball-vs-old-orchard
DTSTART:20251202T221500Z
DTEND:20251202T231500Z
END:VEVENT
END:VCALENDAR
