BEGIN:VCALENDAR
VERSION:2.0
PRODID:SchoolNow
CALSCALE:GREGORIAN
BEGIN:VEVENT
UID:adb29b74-b05b-11f0-80df-0a58a9feac02
DTSTAMP:20251216T214529Z
SUMMARY:McCracken Girls JV Basketball vs. Lincoln
LOCATION:Oliver McCracken Middle School\, 8000 E Prairie Rd\, Skokie\, IL 6
 0076\, USA
URL;VALUE=URI:https://www.sd735.org/middleton/calendar/8745494/mccracken-gi
 rls-jv-basketball-vs-lincoln
DTSTART:20251120T221500Z
DTEND:20251120T231500Z
END:VEVENT
END:VCALENDAR
