BEGIN:VCALENDAR
VERSION:2.0
PRODID:SchoolNow
CALSCALE:GREGORIAN
BEGIN:VEVENT
UID:adb299a8-b05b-11f0-b147-0a58a9feac02
DTSTAMP:20251216T214528Z
SUMMARY:McCracken Girls JV Basketball at Fairview
LOCATION:Fairview South Elementary School\, 7040 Laramie Ave\, Skokie\, IL 
 60077\, USA
URL;VALUE=URI:https://www.sd735.org/middleton/calendar/8745492/mccracken-gi
 rls-jv-basketball-at-fairview
DTSTART:20251114T220000Z
DTEND:20251114T230000Z
END:VEVENT
END:VCALENDAR
