BEGIN:VCALENDAR
VERSION:2.0
PRODID:SchoolNow
CALSCALE:GREGORIAN
BEGIN:VEVENT
UID:adb298c2-b05b-11f0-b076-0a58a9feac02
DTSTAMP:20251216T214528Z
SUMMARY:McCracken Girls JV Basketball at Culver
LOCATION:Clarence E Culver School\, 6901 W Oakton St\, Niles\, IL 60714\, U
 SA
URL;VALUE=URI:https://www.sd735.org/middleton/calendar/8745491/mccracken-gi
 rls-jv-basketball-at-culver
DTSTART:20251105T220000Z
DTEND:20251105T230000Z
END:VEVENT
END:VCALENDAR
