BEGIN:VCALENDAR
VERSION:2.0
PRODID:SchoolNow
CALSCALE:GREGORIAN
BEGIN:VEVENT
UID:adb28d8c-b05b-11f0-9fcf-0a58a9feac02
DTSTAMP:20251216T214528Z
SUMMARY:McCracken Girls Varsity Basketball at Lincoln Hall
LOCATION:Lincoln Hall Middle School\, 6855 N Crawford Ave\, Lincolnwood\, I
 L 60712\, USA
URL;VALUE=URI:https://www.sd735.org/middleton/calendar/8745480/mccracken-gi
 rls-varsity-basketball-at-lincoln-hall
DTSTART:20251112T220000Z
DTEND:20251112T230000Z
END:VEVENT
END:VCALENDAR
