BEGIN:VCALENDAR
VERSION:2.0
PRODID:SchoolNow
CALSCALE:GREGORIAN
BEGIN:VEVENT
UID:adb28c06-b05b-11f0-a2a5-0a58a9feac02
DTSTAMP:20251216T214528Z
SUMMARY:McCracken Girls Varsity Basketball vs. Golf
LOCATION:Oliver McCracken Middle School\, 8000 E Prairie Rd\, Skokie\, IL 6
 0076\, USA
URL;VALUE=URI:https://www.sd735.org/middleton/calendar/8745479/mccracken-gi
 rls-varsity-basketball-vs-golf
DTSTART:20251106T220000Z
DTEND:20251106T230000Z
END:VEVENT
END:VCALENDAR
