BEGIN:VCALENDAR
VERSION:2.0
PRODID:SchoolNow
CALSCALE:GREGORIAN
BEGIN:VEVENT
UID:dde30df0-a97c-11f0-b5a8-0a58a9feac02
DTSTAMP:20251216T214528Z
SUMMARY:McCracken Girls Varsity Volleyball vs. East Prairie
LOCATION:Park View Elementary School\, 6200 Lake St\, Morton Grove\, IL 600
 53\, USA
URL;VALUE=URI:https://www.sd735.org/middleton/calendar/8723138/mccracken-gi
 rls-varsity-volleyball-vs-east-prairie
DTSTART:20251015T211500Z
DTEND:20251015T221500Z
END:VEVENT
END:VCALENDAR
