BEGIN:VCALENDAR
VERSION:2.0
PRODID:SchoolNow
CALSCALE:GREGORIAN
BEGIN:VEVENT
UID:dde30a08-a97c-11f0-9a7a-0a58a9feac02
DTSTAMP:20251216T214529Z
SUMMARY:McCracken Girls Varsity Volleyball (next round)
LOCATION:Park View Elementary School\, 6200 Lake St\, Morton Grove\, IL 600
 53\, USA
URL;VALUE=URI:https://www.sd735.org/middleton/calendar/8723137/mccracken-gi
 rls-varsity-volleyball-next-round
DTSTART:20251015T221500Z
DTEND:20251015T231500Z
END:VEVENT
END:VCALENDAR
