BEGIN:VCALENDAR
VERSION:2.0
PRODID:SchoolNow
CALSCALE:GREGORIAN
BEGIN:VEVENT
UID:dfe339be-a949-11f0-8763-0afff46b4031
DTSTAMP:20251216T214528Z
SUMMARY:McCracken Student and Staff Flu Clinic
LOCATION:Oliver McCracken Middle School\, 8000 E Prairie Rd\, Skokie\, IL 6
 0076\, USA
URL;VALUE=URI:https://www.sd735.org/middleton/calendar/8722322/mccracken-st
 udent-and-staff-flu-clinic
DTSTART;VALUE=DATE:20251112
DTEND;VALUE=DATE:20251113
END:VEVENT
END:VCALENDAR
