BEGIN:VCALENDAR
VERSION:2.0
PRODID:SchoolNow
CALSCALE:GREGORIAN
BEGIN:VEVENT
UID:dfe338b0-a949-11f0-ac3c-0afff46b4031
DTSTAMP:20251216T214529Z
SUMMARY:Meyer Student and Staff Flu Clinic
LOCATION:Elizabeth Meyer School\, 8100 Tripp Ave\, Skokie\, IL 60076\, USA
URL;VALUE=URI:https://www.sd735.org/middleton/calendar/8722321/meyer-studen
 t-and-staff-flu-clinic
DTSTART;VALUE=DATE:20251112
DTEND;VALUE=DATE:20251113
END:VEVENT
END:VCALENDAR
