BEGIN:VCALENDAR
VERSION:2.0
PRODID:SchoolNow
CALSCALE:GREGORIAN
BEGIN:VEVENT
UID:dfe337c0-a949-11f0-864e-0afff46b4031
DTSTAMP:20251216T214528Z
SUMMARY:McCracken AVID Information Lunch
LOCATION:Oliver McCracken Middle School\, 8000 E Prairie Rd\, Skokie\, IL 6
 0076\, USA
URL;VALUE=URI:https://www.sd735.org/middleton/calendar/8722320/mccracken-av
 id-information-lunch
DTSTART:20251106T184000Z
DTEND:20251106T192500Z
END:VEVENT
END:VCALENDAR
