BEGIN:VCALENDAR
VERSION:2.0
PRODID:SchoolNow
CALSCALE:GREGORIAN
BEGIN:VEVENT
UID:dfe335c2-a949-11f0-9f61-0afff46b4031
DTSTAMP:20251216T214528Z
SUMMARY:Finance Committee Meeting
LOCATION:Oliver McCracken Middle School\, 8000 E Prairie Rd\, Skokie\, IL 6
 0076\, USA
URL;VALUE=URI:https://www.sd735.org/middleton/calendar/8722318/finance-comm
 ittee-meeting
DTSTART:20260429T000000Z
DTEND:20260429T013000Z
END:VEVENT
END:VCALENDAR
