BEGIN:VCALENDAR
VERSION:2.0
PRODID:SchoolNow
CALSCALE:GREGORIAN
BEGIN:VEVENT
UID:dfe333ce-a949-11f0-9da0-0afff46b4031
DTSTAMP:20251216T214529Z
SUMMARY:Finance Committee Meeting
LOCATION:Oliver McCracken Middle School\, 8000 E Prairie Rd\, Skokie\, IL 6
 0076\, USA
URL;VALUE=URI:https://www.sd735.org/middleton/calendar/8722316/finance-comm
 ittee-meeting
DTSTART:20260304T010000Z
DTEND:20260304T023000Z
END:VEVENT
END:VCALENDAR
