BEGIN:VCALENDAR
VERSION:2.0
PRODID:SchoolNow
CALSCALE:GREGORIAN
BEGIN:VEVENT
UID:0bb7a9f0-a5e7-11f0-b15d-0affdb1b63b1
DTSTAMP:20251216T214528Z
SUMMARY:McCracken Girls Varsity Volleyball (next round)
LOCATION:Niles West High School\, 5701 Oakton St\, Skokie\, IL 60077\, USA
URL;VALUE=URI:https://www.sd735.org/middleton/calendar/8711394/mccracken-gi
 rls-varsity-volleyball-next-round
DTSTART:20251017T211500Z
DTEND:20251017T231500Z
END:VEVENT
END:VCALENDAR
