BEGIN:VCALENDAR
VERSION:2.0
PRODID:SchoolNow
CALSCALE:GREGORIAN
BEGIN:VEVENT
UID:0bb7a8ec-a5e7-11f0-b9ba-0affdb1b63b1
DTSTAMP:20251216T214529Z
SUMMARY:McCracken Girls JV Volleyball Tournament
URL;VALUE=URI:https://www.sd735.org/middleton/calendar/8711393/mccracken-gi
 rls-jv-volleyball-tournament
DTSTART;VALUE=DATE:20251017
DTEND;VALUE=DATE:20251018
END:VEVENT
END:VCALENDAR
