BEGIN:VCALENDAR
VERSION:2.0
PRODID:SchoolNow
CALSCALE:GREGORIAN
BEGIN:VEVENT
UID:0bb7a5d6-a5e7-11f0-abcc-0affdb1b63b1
DTSTAMP:20251216T214528Z
SUMMARY:McCracken Girls Varsity Basketball Tryouts
URL;VALUE=URI:https://www.sd735.org/middleton/calendar/8711390/mccracken-gi
 rls-varsity-basketball-tryouts
DTSTART:20251022T201500Z
DTEND:20251022T213000Z
END:VEVENT
END:VCALENDAR
