BEGIN:VCALENDAR
VERSION:2.0
PRODID:SchoolNow
CALSCALE:GREGORIAN
BEGIN:VEVENT
UID:0bb7a4d2-a5e7-11f0-b077-0affdb1b63b1
DTSTAMP:20251216T214528Z
SUMMARY:McCracken Girls JV Basketball Tryouts
URL;VALUE=URI:https://www.sd735.org/middleton/calendar/8711389/mccracken-gi
 rls-jv-basketball-tryouts
DTSTART:20251022T213000Z
DTEND:20251022T223000Z
END:VEVENT
END:VCALENDAR
