BEGIN:VCALENDAR
VERSION:2.0
PRODID:SchoolNow
CALSCALE:GREGORIAN
BEGIN:VEVENT
UID:0bb7a3a6-a5e7-11f0-803b-0affdb1b63b1
DTSTAMP:20251216T214528Z
SUMMARY:McCracken Girls JV Basketball Tryouts
URL;VALUE=URI:https://www.sd735.org/middleton/calendar/8711388/mccracken-gi
 rls-jv-basketball-tryouts
DTSTART:20251020T200000Z
DTEND:20251020T211500Z
END:VEVENT
END:VCALENDAR
