BEGIN:VCALENDAR
VERSION:2.0
PRODID:SchoolNow
CALSCALE:GREGORIAN
BEGIN:VEVENT
UID:0bb77d18-a5e7-11f0-9f26-0affdb1b63b1
DTSTAMP:20251216T214528Z
SUMMARY:McCracken Girls 6th Grade Basketball Tryouts
URL;VALUE=URI:https://www.sd735.org/middleton/calendar/8711386/mccracken-gi
 rls-6th-grade-basketball-tryouts
DTSTART:20251020T211500Z
DTEND:20251020T223000Z
END:VEVENT
END:VCALENDAR
