BEGIN:VCALENDAR
VERSION:2.0
PRODID:SchoolNow
CALSCALE:GREGORIAN
BEGIN:VEVENT
UID:7255f364-9e22-11f0-9073-0afff0c85103
DTSTAMP:20251216T214528Z
SUMMARY:Middleton Musical: Full Cast and Crew Tech Rehearsal
LOCATION:Oliver McCracken Middle School\, 8000 E Prairie Rd\, Skokie\, IL 6
 0076\, USA
URL;VALUE=URI:https://www.sd735.org/middleton/calendar/8680429/middleton-mu
 sical-full-cast-and-crew-tech-rehearsal
DTSTART:20260430T174500Z
DTEND:20260430T210000Z
END:VEVENT
END:VCALENDAR
