BEGIN:VCALENDAR
VERSION:2.0
PRODID:SchoolNow
CALSCALE:GREGORIAN
BEGIN:VEVENT
UID:7255e8d8-9e22-11f0-9cac-0afff0c85103
DTSTAMP:20251216T214529Z
SUMMARY:McCracken IGSMA Solo & Ensemble Recital
LOCATION:Nichols Middle School\, 800 Greenleaf St\, Evanston\, IL 60202\, U
 SA
URL;VALUE=URI:https://www.sd735.org/middleton/calendar/8680421/mccracken-ig
 sma-solo-ensemble-recital
DTSTART;VALUE=DATE:20260221
DTEND;VALUE=DATE:20260222
END:VEVENT
END:VCALENDAR
