BEGIN:VCALENDAR
VERSION:2.0
PRODID:SchoolNow
CALSCALE:GREGORIAN
BEGIN:VEVENT
UID:843cd834-9c8a-11f0-ac69-02dac0e81231
DTSTAMP:20251216T214528Z
SUMMARY:McCracken 7th & 8th Grade Orchestra Odyssey
LOCATION:Niles North High School\, 9800 Lawler Ave\, Skokie\, IL 60077\, US
 A
URL;VALUE=URI:https://www.sd735.org/middleton/calendar/8673381/mccracken-7t
 h-8th-grade-orchestra-odyssey
DTSTART:20260108T154500Z
DTEND:20260108T180000Z
END:VEVENT
END:VCALENDAR
