BEGIN:VCALENDAR
VERSION:2.0
PRODID:SchoolNow
CALSCALE:GREGORIAN
BEGIN:VEVENT
UID:843cd758-9c8a-11f0-83cf-02dac0e81231
DTSTAMP:20251216T214529Z
SUMMARY:McCracken Orchestra Concert
LOCATION:Niles North High School\, 9800 Lawler Ave\, Skokie\, IL 60077\, US
 A
URL;VALUE=URI:https://www.sd735.org/middleton/calendar/8673380/mccracken-or
 chestra-concert
DTSTART:20260519T000000Z
DTEND:20260519T010000Z
END:VEVENT
END:VCALENDAR
