BEGIN:VCALENDAR
VERSION:2.0
PRODID:SchoolNow
CALSCALE:GREGORIAN
BEGIN:VEVENT
UID:843cd172-9c8a-11f0-a4d6-02dac0e81231
DTSTAMP:20251216T214529Z
SUMMARY:McCracken Hornet Harmony Vocal Jazz Night at Niles North
LOCATION:Niles North High School\, 9800 Lawler Ave\, Skokie\, IL 60077\, US
 A
URL;VALUE=URI:https://www.sd735.org/middleton/calendar/8673374/mccracken-ho
 rnet-harmony-vocal-jazz-night-at-niles-north
DTSTART;VALUE=DATE:20260417
DTEND;VALUE=DATE:20260418
END:VEVENT
END:VCALENDAR
