BEGIN:VCALENDAR
VERSION:2.0
PRODID:SchoolNow
CALSCALE:GREGORIAN
BEGIN:VEVENT
UID:843ccfe2-9c8a-11f0-b0bb-02dac0e81231
DTSTAMP:20251216T214528Z
SUMMARY:Beginner & Symphonic Bands Concert
LOCATION:Oliver McCracken Middle School\, 8000 E Prairie Rd\, Skokie\, IL 6
 0076\, USA
URL;VALUE=URI:https://www.sd735.org/middleton/calendar/8673373/beginner-sym
 phonic-bands-concert
DTSTART:20260303T010000Z
DTEND:20260303T013000Z
END:VEVENT
END:VCALENDAR
