BEGIN:VCALENDAR
VERSION:2.0
PRODID:SchoolNow
CALSCALE:GREGORIAN
BEGIN:VEVENT
UID:b19a97d6-995a-11f0-a0ed-0e4afb1c7027
DTSTAMP:20251216T214528Z
SUMMARY:Finance Committee Meeting
LOCATION:Oliver McCracken Middle School
URL;VALUE=URI:https://www.sd735.org/middleton/calendar/8659551/finance-comm
 ittee-meeting
DTSTART:20251009T000000Z
DTEND:20251009T013000Z
END:VEVENT
END:VCALENDAR
