BEGIN:VCALENDAR
VERSION:2.0
PRODID:SchoolNow
CALSCALE:GREGORIAN
BEGIN:VEVENT
UID:b73a784e-98c1-11f0-8032-0a58a9feac02
DTSTAMP:20251216T214529Z
SUMMARY:Middleton 5th Grade Farewell
LOCATION:John Middleton Elementary School\, 8300 St Louis Ave\, Skokie\, IL
  60076\, USA
URL;VALUE=URI:https://www.sd735.org/middleton/calendar/8657058/middleton-5t
 h-grade-farewell
DTSTART:20260527T233000Z
DTEND:20260528T001500Z
END:VEVENT
END:VCALENDAR
