BEGIN:VCALENDAR
VERSION:2.0
PRODID:SchoolNow
CALSCALE:GREGORIAN
BEGIN:VEVENT
UID:b73a7678-98c1-11f0-88c4-0a58a9feac02
DTSTAMP:20251216T214529Z
SUMMARY:Middleton 1st Grade Music Concert
LOCATION:John Middleton Elementary School\, 8300 St Louis Ave\, Skokie\, IL
  60076\, USA
URL;VALUE=URI:https://www.sd735.org/middleton/calendar/8657056/middleton-1s
 t-grade-music-concert
DTSTART:20260521T230000Z
DTEND:20260521T233000Z
END:VEVENT
END:VCALENDAR
