BEGIN:VCALENDAR
VERSION:2.0
PRODID:SchoolNow
CALSCALE:GREGORIAN
BEGIN:VEVENT
UID:b73a739e-98c1-11f0-ba45-0a58a9feac02
DTSTAMP:20251216T214528Z
SUMMARY:Middleton Musical
LOCATION:Oliver McCracken Middle School\, 8000 E Prairie Rd\, Skokie\, IL 6
 0076\, USA
URL;VALUE=URI:https://www.sd735.org/middleton/calendar/8657053/middleton-mu
 sical
DTSTART:20260502T000000Z
DTEND:20260502T020000Z
END:VEVENT
END:VCALENDAR
