BEGIN:VCALENDAR
VERSION:2.0
PRODID:SchoolNow
CALSCALE:GREGORIAN
BEGIN:VEVENT
UID:b73a7150-98c1-11f0-8804-0a58a9feac02
DTSTAMP:20251216T214528Z
SUMMARY:All-Illinois Junior Band Festival
LOCATION:Krannert Center for the Performing Arts\, 500 S Goodwin Ave\, Urba
 na\, IL 61801\, USA
URL;VALUE=URI:https://www.sd735.org/middleton/calendar/8657051/all-illinois
 -junior-band-festival
DTSTART;VALUE=DATE:20260116
DTEND;VALUE=DATE:20260118
END:VEVENT
END:VCALENDAR
