BEGIN:VCALENDAR
VERSION:2.0
PRODID:SchoolNow
CALSCALE:GREGORIAN
BEGIN:VEVENT
UID:b73a6dc2-98c1-11f0-8c43-0a58a9feac02
DTSTAMP:20251216T214528Z
SUMMARY:McCracken 7th Grade Camp MacLean Trip
URL;VALUE=URI:https://www.sd735.org/middleton/calendar/8657050/mccracken-7t
 h-grade-camp-maclean-trip
DTSTART;VALUE=DATE:20260513
DTEND;VALUE=DATE:20260516
END:VEVENT
END:VCALENDAR
