BEGIN:VCALENDAR
VERSION:2.0
PRODID:SchoolNow
CALSCALE:GREGORIAN
BEGIN:VEVENT
UID:e10f1004-9591-11f0-ac18-0a58a9feac02
DTSTAMP:20251216T214528Z
SUMMARY:State Send-Off Concert
LOCATION:Oliver McCracken Middle School\, 8000 E Prairie Rd\, Skokie\, IL 6
 0076\, USA
URL;VALUE=URI:https://www.sd735.org/middleton/calendar/8643822/state-send-o
 ff-concert
DTSTART:20260414T190000Z
DTEND:20260414T200000Z
END:VEVENT
END:VCALENDAR
