BEGIN:VCALENDAR
VERSION:2.0
PRODID:SchoolNow
CALSCALE:GREGORIAN
BEGIN:VEVENT
UID:e10f0f00-9591-11f0-83c1-0a58a9feac02
DTSTAMP:20251216T214528Z
SUMMARY:McCracken Hornet's Hive
URL;VALUE=URI:https://www.sd735.org/middleton/calendar/8643821/mccracken-ho
 rnets-hive
DTSTART:20260327T190000Z
DTEND:20260327T200000Z
END:VEVENT
END:VCALENDAR
