BEGIN:VCALENDAR
VERSION:2.0
PRODID:SchoolNow
CALSCALE:GREGORIAN
BEGIN:VEVENT
UID:e10f0db6-9591-11f0-8cb2-0a58a9feac02
DTSTAMP:20251216T214528Z
SUMMARY:McCracken Student Council Hangout
URL;VALUE=URI:https://www.sd735.org/middleton/calendar/8643820/mccracken-st
 udent-council-hangout
DTSTART:20260313T223000Z
DTEND:20260314T000000Z
END:VEVENT
END:VCALENDAR
