BEGIN:VCALENDAR
VERSION:2.0
PRODID:SchoolNow
CALSCALE:GREGORIAN
BEGIN:VEVENT
UID:e3d5734c-955e-11f0-9c19-0a58a9feac02
DTSTAMP:20251216T214528Z
SUMMARY:Preschool Registration Begins for Non-Residents
URL;VALUE=URI:https://www.sd735.org/middleton/calendar/8641022/preschool-re
 gistration-begins-for-non-residents
DTSTART:20260212T153000Z
DTEND:20260212T163000Z
END:VEVENT
END:VCALENDAR
