BEGIN:VCALENDAR
VERSION:2.0
PRODID:SchoolNow
CALSCALE:GREGORIAN
BEGIN:VEVENT
UID:e3d5718a-955e-11f0-a356-0a58a9feac02
DTSTAMP:20251216T214528Z
SUMMARY:McCracken Orchestra Concert
LOCATION:Niles North High School\, 9800 Lawler Ave\, Skokie\, IL 60077\, US
 A
URL;VALUE=URI:https://www.sd735.org/middleton/calendar/8641020/mccracken-or
 chestra-concert
DTSTART:20251216T003000Z
DTEND:20251216T013000Z
END:VEVENT
END:VCALENDAR
