BEGIN:VCALENDAR
VERSION:2.0
PRODID:SchoolNow
CALSCALE:GREGORIAN
BEGIN:VEVENT
UID:e3d56b72-955e-11f0-9ddc-0a58a9feac02
DTSTAMP:20251216T214528Z
SUMMARY:Meyer Showcase
LOCATION:Elizabeth Meyer School\, 8100 Tripp Ave\, Skokie\, IL 60076\, USA
URL;VALUE=URI:https://www.sd735.org/middleton/calendar/8641015/meyer-showca
 se
DTSTART:20260430T230000Z
DTEND:20260501T000000Z
END:VEVENT
END:VCALENDAR
