BEGIN:VCALENDAR
VERSION:2.0
PRODID:SchoolNow
CALSCALE:GREGORIAN
BEGIN:VEVENT
UID:e3d56a6e-955e-11f0-9a5e-0a58a9feac02
DTSTAMP:20251216T214528Z
SUMMARY:Meyer Story Night
LOCATION:Elizabeth Meyer School\, 8100 Tripp Ave\, Skokie\, IL 60076\, USA
URL;VALUE=URI:https://www.sd735.org/middleton/calendar/8641014/meyer-story-
 night
DTSTART:20260409T230000Z
DTEND:20260410T000000Z
END:VEVENT
END:VCALENDAR
