BEGIN:VCALENDAR
VERSION:2.0
PRODID:SchoolNow
CALSCALE:GREGORIAN
BEGIN:VEVENT
UID:1d418ed4-90ca-11f0-8ced-02740ebbdc75
DTSTAMP:20251216T214528Z
SUMMARY:Bilingual Parent Advisory Meeting (BPAC): Exited Student Celebratio
 n & Building 73.5 Info & Survey
LOCATION:John Middleton Elementary School\, 8300 St Louis Ave\, Skokie\, IL
  60076\, USA
URL;VALUE=URI:https://www.sd735.org/middleton/calendar/8618632/bilingual-pa
 rent-advisory-meeting-bpac-exited-student-celebration-building-73-5-info-s
 urvey
DTSTART:20251113T000000Z
DTEND:20251113T010000Z
END:VEVENT
END:VCALENDAR
