BEGIN:VCALENDAR
VERSION:2.0
PRODID:SchoolNow
CALSCALE:GREGORIAN
BEGIN:VEVENT
UID:1d416ed6-90ca-11f0-ace7-02740ebbdc75
DTSTAMP:20251216T214528Z
SUMMARY:Bilingual Parent Advisory Meeting (BPAC): Training\, Budget\, Commu
 nity Resources & Exited Students Celebration
LOCATION:Oliver McCracken Middle School\, 8000 E Prairie Rd\, Skokie\, IL 6
 0076\, USA
URL;VALUE=URI:https://www.sd735.org/middleton/calendar/8618631/bilingual-pa
 rent-advisory-meeting-bpac-training-budget-community-resources-exited-stud
 ents-celebration
DTSTART:20251015T230000Z
DTEND:20251016T000000Z
END:VEVENT
END:VCALENDAR
