BEGIN:VCALENDAR
VERSION:2.0
PRODID:SchoolNow
CALSCALE:GREGORIAN
BEGIN:VEVENT
UID:4f679bbe-8d01-11f0-96c1-0a58a9feac02
DTSTAMP:20251216T214528Z
SUMMARY:McCracken Boys 6th Grade Basketball Tryouts
URL;VALUE=URI:https://www.sd735.org/middleton/calendar/8596329/mccracken-bo
 ys-6th-grade-basketball-tryouts
DTSTART:20260112T220000Z
DTEND:20260112T231500Z
END:VEVENT
END:VCALENDAR
