BEGIN:VCALENDAR
VERSION:2.0
PRODID:SchoolNow
CALSCALE:GREGORIAN
BEGIN:VEVENT
UID:4f6799ca-8d01-11f0-b9af-0a58a9feac02
DTSTAMP:20251216T214528Z
SUMMARY:McCracken Graduation Picture Retakes
URL;VALUE=URI:https://www.sd735.org/middleton/calendar/8596327/mccracken-gr
 aduation-picture-retakes
DTSTART:20260312T130000Z
DTEND:20260312T150000Z
END:VEVENT
END:VCALENDAR
