BEGIN:VCALENDAR
VERSION:2.0
PRODID:SchoolNow
CALSCALE:GREGORIAN
BEGIN:VEVENT
UID:4f6798e4-8d01-11f0-9d44-0a58a9feac02
DTSTAMP:20251216T214529Z
SUMMARY:McCracken Boys 6th Grade Basketball Tryouts
URL;VALUE=URI:https://www.sd735.org/middleton/calendar/8596326/mccracken-bo
 ys-6th-grade-basketball-tryouts
DTSTART:20260113T220000Z
DTEND:20260113T231500Z
END:VEVENT
END:VCALENDAR
