BEGIN:VCALENDAR
VERSION:2.0
PRODID:SchoolNow
CALSCALE:GREGORIAN
BEGIN:VEVENT
UID:4f679718-8d01-11f0-945c-0a58a9feac02
DTSTAMP:20251216T214528Z
SUMMARY:Middleton Musical Rehearsal
LOCATION:John Middleton Elementary School\, 8300 St Louis Ave\, Skokie\, IL
  60076\, USA
URL;VALUE=URI:https://www.sd735.org/middleton/calendar/8596324/middleton-mu
 sical-rehearsal
DTSTART:20260221T150000Z
DTEND:20260221T180000Z
END:VEVENT
END:VCALENDAR
