BEGIN:VCALENDAR
VERSION:2.0
PRODID:SchoolNow
CALSCALE:GREGORIAN
BEGIN:VEVENT
UID:4f67945c-8d01-11f0-bdab-0a58a9feac02
DTSTAMP:20251216T214528Z
SUMMARY:Middleton 5th Grade Music Concert
LOCATION:John Middleton Elementary School\, 8300 St Louis Ave\, Skokie\, IL
  60076\, USA
URL;VALUE=URI:https://www.sd735.org/middleton/calendar/8596321/middleton-5t
 h-grade-music-concert
DTSTART:20260206T010000Z
DTEND:20260206T013000Z
END:VEVENT
END:VCALENDAR
